BEGIN:VCALENDAR
PRODID:-//eluceo/ical//2.0/EN
VERSION:2.0
CALSCALE:GREGORIAN
BEGIN:VEVENT
UID:8c8df991a18f2f3b81a47dfe9d38829a
DTSTAMP:20260419T160929Z
SUMMARY:Der etwas andere Dialog: „Die Freiheit der Kunst“
DESCRIPTION:
DTSTART;VALUE=DATE:20191023
END:VEVENT
END:VCALENDAR
