BEGIN:VCALENDAR
PRODID:-//eluceo/ical//2.0/EN
VERSION:2.0
CALSCALE:GREGORIAN
BEGIN:VEVENT
UID:da047e52880dffe7f42140477330b62e
DTSTAMP:20260422T155443Z
SUMMARY:Disconnected? Individualisation\, Loneliness and Social Cohesion in
  Times of Transformation
DESCRIPTION:
DTSTART:20260618T110000
DTEND:20260618T193000
END:VEVENT
END:VCALENDAR
