BEGIN:VCALENDAR
PRODID:-//eluceo/ical//2.0/EN
VERSION:2.0
CALSCALE:GREGORIAN
BEGIN:VEVENT
UID:ccafffcb8a0cd1e58a54992255205c2e
DTSTAMP:20260424T171138Z
SUMMARY:Europe-Mobile 2020
DESCRIPTION:
DTSTART:20200906T220000
DTEND:20201001T220000
END:VEVENT
END:VCALENDAR
