BEGIN:VCALENDAR
PRODID:-//eluceo/ical//2.0/EN
VERSION:2.0
CALSCALE:GREGORIAN
BEGIN:VEVENT
UID:57e17059f9ea1fc3b25e5af6b2ee9a75
DTSTAMP:20260423T170237Z
SUMMARY:Europe-mobile 2019
DESCRIPTION:
DTSTART:20190901T220000
DTEND:20190926T220000
END:VEVENT
END:VCALENDAR
