BEGIN:VCALENDAR
PRODID:-//eluceo/ical//2.0/EN
VERSION:2.0
CALSCALE:GREGORIAN
BEGIN:VEVENT
UID:1600984f27b08fbb915295a207cd5ac0
DTSTAMP:20260419T141245Z
SUMMARY:„Europe: United In_Equality?”  Soirée-débat avec Ivan Krastev
DESCRIPTION:
DTSTART;VALUE=DATE:20231121
END:VEVENT
END:VCALENDAR
