BEGIN:VCALENDAR
PRODID:-//eluceo/ical//2.0/EN
VERSION:2.0
CALSCALE:GREGORIAN
BEGIN:VEVENT
UID:ff43a727efa0d5c438917c1fb7e016f3
DTSTAMP:20260419T141823Z
SUMMARY:Oreilles ouvertes\, archives vivantes : le jeune podcast – face 
 à la dictature.
DESCRIPTION:
DTSTART:20231023T150000
DTEND:20231025T170000
END:VEVENT
END:VCALENDAR
