BEGIN:VCALENDAR
PRODID:-//eluceo/ical//2.0/EN
VERSION:2.0
CALSCALE:GREGORIAN
BEGIN:VEVENT
UID:ceaf26579cbb98f8ea784bb932eebefb
DTSTAMP:20260419T141611Z
SUMMARY:Structures poreuses. Arts graphiques et peinture d’aujourd’hui
DESCRIPTION:
DTSTART:20230320T143900
DTEND:20240126T143000
END:VEVENT
END:VCALENDAR
