BEGIN:VCALENDAR
PRODID:-//eluceo/ical//2.0/EN
VERSION:2.0
CALSCALE:GREGORIAN
BEGIN:VEVENT
UID:49219f1b84ddaa809330b8b67ee12255
DTSTAMP:20260422T133300Z
SUMMARY:Les livres rendent-ils riche ? Les contributions de l’éveil arti
 stique et culturel dans la lutte contre la pauvreté
DESCRIPTION:
DTSTART;VALUE=DATE:20220222
END:VEVENT
END:VCALENDAR
