BEGIN:VCALENDAR
PRODID:-//eluceo/ical//2.0/EN
VERSION:2.0
CALSCALE:GREGORIAN
BEGIN:VEVENT
UID:3bb566c5d68f990c2584709b38a59e8a
DTSTAMP:20260422T160152Z
SUMMARY:Sans connexion ? Individualisation\, solitude et cohésion sociale 
 en période de transformations
DESCRIPTION:
DTSTART:20260618T110000
DTEND:20260618T193000
END:VEVENT
END:VCALENDAR
