BEGIN:VCALENDAR
PRODID:-//eluceo/ical//2.0/EN
VERSION:2.0
CALSCALE:GREGORIAN
BEGIN:VEVENT
UID:f7cc48e246e7738e2c005a89a526bab5
DTSTAMP:20260419T173628Z
SUMMARY:Akademia pod drzewami: Europa granic
DESCRIPTION:
DTSTART;VALUE=DATE:20180524
END:VEVENT
END:VCALENDAR
