BEGIN:VCALENDAR
PRODID:-//eluceo/ical//2.0/EN
VERSION:2.0
CALSCALE:GREGORIAN
BEGIN:VEVENT
UID:b8232bcf3f77fbf45cffcc9332301f5e
DTSTAMP:20260424T171826Z
SUMMARY:Europamobil 2020
DESCRIPTION:
DTSTART:20200906T220000
DTEND:20201001T220000
END:VEVENT
END:VCALENDAR
