BEGIN:VCALENDAR
PRODID:-//eluceo/ical//2.0/EN
VERSION:2.0
CALSCALE:GREGORIAN
BEGIN:VEVENT
UID:58704fccac3473bbbab765190724b608
DTSTAMP:20260423T152837Z
SUMMARY:Europamobil 2019
DESCRIPTION:
DTSTART:20190901T220000
DTEND:20190926T220000
END:VEVENT
END:VCALENDAR
