BEGIN:VCALENDAR
PRODID:-//eluceo/ical//2.0/EN
VERSION:2.0
CALSCALE:GREGORIAN
BEGIN:VEVENT
UID:93ba3fbabcc45b2419664de40ac269e7
DTSTAMP:20260419T140938Z
SUMMARY:Nieco inny dialog: „Nauka w czasach kryzysu: Rola nowych prorokó
 w
DESCRIPTION:
DTSTART;VALUE=DATE:20211006
END:VEVENT
END:VCALENDAR
