BEGIN:VCALENDAR
PRODID:-//eluceo/ical//2.0/EN
VERSION:2.0
CALSCALE:GREGORIAN
BEGIN:VEVENT
UID:ac2f0c65c9a1ea1cba8d958e7f9a71b3
DTSTAMP:20260419T141458Z
SUMMARY:Nieco inny dialog: „Zintegrowani czy odseparowani: jak kształtuj
 e się Europa 30 lat po zjednoczeniu Niemiec?”
DESCRIPTION:
DTSTART;VALUE=DATE:20201007
END:VEVENT
END:VCALENDAR
