BEGIN:VCALENDAR
PRODID:-//eluceo/ical//2.0/EN
VERSION:2.0
CALSCALE:GREGORIAN
BEGIN:VEVENT
UID:50c60bb5410a903c519998718c934816
DTSTAMP:20260422T120111Z
SUMMARY:Czy książki wbogacają? Wczesna edukacja kulturalna dzieci i szan
 se zapobiegania ubóstwu. Wymiana niemiecko-francuska.
DESCRIPTION:
DTSTART;VALUE=DATE:20220222
END:VEVENT
END:VCALENDAR
