BEGIN:VCALENDAR
PRODID:-//eluceo/ical//2.0/EN
VERSION:2.0
CALSCALE:GREGORIAN
BEGIN:VEVENT
UID:6b26fe7ffc61dc356fa3fca59f69d772
DTSTAMP:20260422T155402Z
SUMMARY:Bez zobowiązań? Indywidualizacja\, samotność i spójność spo
 łeczna w czasach transformacji
DESCRIPTION:
DTSTART:20260618T110000
DTEND:20260618T193000
END:VEVENT
END:VCALENDAR
