BEGIN:VCALENDAR
PRODID:-//eluceo/ical//2.0/EN
VERSION:2.0
CALSCALE:GREGORIAN
BEGIN:VEVENT
UID:5737f862098140997f6f21738599aa2d
DTSTAMP:20260420T163908Z
SUMMARY:Weimar Plus Working Discussion: Integracja Bałkanów Zachodnich z 
 UE
DESCRIPTION:
DTSTART:20211208T230000
DTEND:20211209T230000
END:VEVENT
END:VCALENDAR
