BEGIN:VCALENDAR
PRODID:-//eluceo/ical//2.0/EN
VERSION:2.0
CALSCALE:GREGORIAN
BEGIN:VEVENT
UID:e1626e456cbc0bd659d9ff842d70daba
DTSTAMP:20260425T222157Z
SUMMARY:Wręczenie Nagrody im. Franza Hessela za rok 2019
DESCRIPTION:
DTSTART;VALUE=DATE:20190606
END:VEVENT
END:VCALENDAR
