BEGIN:VCALENDAR
PRODID:-//eluceo/ical//2.0/EN
VERSION:2.0
CALSCALE:GREGORIAN
BEGIN:VEVENT
UID:e900a5b8d551dcd8a42038ef85f88ed6
DTSTAMP:20260422T135806Z
SUMMARY:Unverbunden? Individualisierung\, Einsamkeit und gesellschaftlicher
  Zusammenhalt in Zeiten der Transformation
DESCRIPTION:
DTSTART:20260618T110000
DTEND:20260618T193000
END:VEVENT
END:VCALENDAR
