BEGIN:VCALENDAR
PRODID:-//eluceo/ical//2.0/EN
VERSION:2.0
CALSCALE:GREGORIAN
BEGIN:VEVENT
UID:7ff40cf907bd143e96e64c9da590ea72
DTSTAMP:20260420T144819Z
SUMMARY:Die EU-Integration des Westlichen Balkans
DESCRIPTION:
DTSTART:20211208T230000
DTEND:20211209T230000
END:VEVENT
END:VCALENDAR
